BEGIN:VCALENDAR
VERSION:2.0
PRODID:-//jEvents 2.0 for Joomla//EN
CALSCALE:GREGORIAN
METHOD:PUBLISH
BEGIN:VTIMEZONE
TZID:Europe/Budapest
BEGIN:STANDARD
DTSTART:20151025T020000
RDATE:20160327T030000
TZOFFSETFROM:+0200
TZOFFSETTO:+0100
TZNAME:Europe/Budapest CET
END:STANDARD
BEGIN:STANDARD
DTSTART:20161030T020000
RDATE:20170326T030000
TZOFFSETFROM:+0200
TZOFFSETTO:+0100
TZNAME:Europe/Budapest CET
END:STANDARD
BEGIN:STANDARD
DTSTART:20171029T020000
RDATE:20180325T030000
TZOFFSETFROM:+0200
TZOFFSETTO:+0100
TZNAME:Europe/Budapest CET
END:STANDARD
BEGIN:STANDARD
DTSTART:20181028T020000
RDATE:20190331T030000
TZOFFSETFROM:+0200
TZOFFSETTO:+0100
TZNAME:Europe/Budapest CET
END:STANDARD
BEGIN:STANDARD
DTSTART:20191027T020000
RDATE:20200329T030000
TZOFFSETFROM:+0200
TZOFFSETTO:+0100
TZNAME:Europe/Budapest CET
END:STANDARD
BEGIN:STANDARD
DTSTART:20201025T020000
RDATE:20210328T030000
TZOFFSETFROM:+0200
TZOFFSETTO:+0100
TZNAME:Europe/Budapest CET
END:STANDARD
BEGIN:DAYLIGHT
DTSTART:20150830T140000
RDATE:20151025T020000
TZOFFSETFROM:+0100
TZOFFSETTO:+0200
TZNAME:Europe/Budapest CEST
END:DAYLIGHT
BEGIN:DAYLIGHT
DTSTART:20160327T030000
RDATE:20161030T020000
TZOFFSETFROM:+0100
TZOFFSETTO:+0200
TZNAME:Europe/Budapest CEST
END:DAYLIGHT
BEGIN:DAYLIGHT
DTSTART:20170326T030000
RDATE:20171029T020000
TZOFFSETFROM:+0100
TZOFFSETTO:+0200
TZNAME:Europe/Budapest CEST
END:DAYLIGHT
BEGIN:DAYLIGHT
DTSTART:20180325T030000
RDATE:20181028T020000
TZOFFSETFROM:+0100
TZOFFSETTO:+0200
TZNAME:Europe/Budapest CEST
END:DAYLIGHT
BEGIN:DAYLIGHT
DTSTART:20190331T030000
RDATE:20191027T020000
TZOFFSETFROM:+0100
TZOFFSETTO:+0200
TZNAME:Europe/Budapest CEST
END:DAYLIGHT
BEGIN:DAYLIGHT
DTSTART:20200329T030000
RDATE:20201025T020000
TZOFFSETFROM:+0100
TZOFFSETTO:+0200
TZNAME:Europe/Budapest CEST
END:DAYLIGHT
END:VTIMEZONE
BEGIN:VEVENT
UID:43d4d7ae4eb0307e9eb63b0bb8e1dfe2
CATEGORIES:Általános
SUMMARY:Életképek című kiadvány ünnepélyes bemutatója
LOCATION:Csurgói Városi Szociális Intézmény, 8840 Csurgó Basakuti u. 3.
DESCRIPTION;ENCODING=QUOTED-PRINTABLE:\n\n\n
CONTACT:Tel: 82/471-093, E-mail: vszi@csurgo.hu
X-EXTRAINFO:A Csurgói Városi Szociális Intézmény tisztelettel meghívja Önt és kedves cs
 aládját 2016. augusztus 30-án 14 órára az „Életképek” című kiadvány ünnepél
 yes bemutatójára\n\nKöszöntőt mond:\n\nFüstös János Csurgó Város polgármest
 ere\nSzászfalvi László országgyűlési képviselő\n\nAz „Életképek” című kiadv
 ányt bemutatja:\nVargáné Hegedűs Magdolna önkormányzati képviselő\n\nKísérő
 programok:\n„Így telnek a napjaink” kiállítás az Idősek Klubja tagjainak al
 kotásaiból-a kiállítást megnyitja: Dr. Horváth József Csurgó Város alpolgár
 mestere\n\nNyugdíjas dolgozók köszöntése\n\nFellép: Decsi Richárd\nZene: To
 lnai István\nSzeretetvendégség
DTSTAMP:20260423T115631Z
DTSTART;TZID=Europe/Budapest:20160830T140000
SEQUENCE:0
TRANSP:OPAQUE
END:VEVENT
END:VCALENDAR