BEGIN:VCALENDAR
VERSION:2.0
PRODID:-//jEvents 2.0 for Joomla//EN
CALSCALE:GREGORIAN
METHOD:PUBLISH
BEGIN:VTIMEZONE
TZID:Europe/Budapest
BEGIN:STANDARD
DTSTART:20140314T160000
RDATE:20140330T030000
TZOFFSETFROM:+0200
TZOFFSETTO:+0100
TZNAME:Europe/Budapest CET
END:STANDARD
BEGIN:STANDARD
DTSTART:20141026T020000
RDATE:20150329T030000
TZOFFSETFROM:+0200
TZOFFSETTO:+0100
TZNAME:Europe/Budapest CET
END:STANDARD
BEGIN:STANDARD
DTSTART:20151025T020000
RDATE:20160327T030000
TZOFFSETFROM:+0200
TZOFFSETTO:+0100
TZNAME:Europe/Budapest CET
END:STANDARD
BEGIN:STANDARD
DTSTART:20161030T020000
RDATE:20170326T030000
TZOFFSETFROM:+0200
TZOFFSETTO:+0100
TZNAME:Europe/Budapest CET
END:STANDARD
BEGIN:STANDARD
DTSTART:20171029T020000
RDATE:20180325T030000
TZOFFSETFROM:+0200
TZOFFSETTO:+0100
TZNAME:Europe/Budapest CET
END:STANDARD
BEGIN:STANDARD
DTSTART:20181028T020000
RDATE:20190331T030000
TZOFFSETFROM:+0200
TZOFFSETTO:+0100
TZNAME:Europe/Budapest CET
END:STANDARD
BEGIN:STANDARD
DTSTART:20191027T020000
RDATE:20200329T030000
TZOFFSETFROM:+0200
TZOFFSETTO:+0100
TZNAME:Europe/Budapest CET
END:STANDARD
BEGIN:STANDARD
DTSTART:20201025T020000
RDATE:20210328T030000
TZOFFSETFROM:+0200
TZOFFSETTO:+0100
TZNAME:Europe/Budapest CET
END:STANDARD
BEGIN:DAYLIGHT
DTSTART:20140330T030000
RDATE:20141026T020000
TZOFFSETFROM:+0100
TZOFFSETTO:+0200
TZNAME:Europe/Budapest CEST
END:DAYLIGHT
BEGIN:DAYLIGHT
DTSTART:20150329T030000
RDATE:20151025T020000
TZOFFSETFROM:+0100
TZOFFSETTO:+0200
TZNAME:Europe/Budapest CEST
END:DAYLIGHT
BEGIN:DAYLIGHT
DTSTART:20160327T030000
RDATE:20161030T020000
TZOFFSETFROM:+0100
TZOFFSETTO:+0200
TZNAME:Europe/Budapest CEST
END:DAYLIGHT
BEGIN:DAYLIGHT
DTSTART:20170326T030000
RDATE:20171029T020000
TZOFFSETFROM:+0100
TZOFFSETTO:+0200
TZNAME:Europe/Budapest CEST
END:DAYLIGHT
BEGIN:DAYLIGHT
DTSTART:20180325T030000
RDATE:20181028T020000
TZOFFSETFROM:+0100
TZOFFSETTO:+0200
TZNAME:Europe/Budapest CEST
END:DAYLIGHT
BEGIN:DAYLIGHT
DTSTART:20190331T030000
RDATE:20191027T020000
TZOFFSETFROM:+0100
TZOFFSETTO:+0200
TZNAME:Europe/Budapest CEST
END:DAYLIGHT
BEGIN:DAYLIGHT
DTSTART:20200329T030000
RDATE:20201025T020000
TZOFFSETFROM:+0100
TZOFFSETTO:+0200
TZNAME:Europe/Budapest CEST
END:DAYLIGHT
END:VTIMEZONE
BEGIN:VEVENT
UID:8273a66867b5d6f56c5fe80a0195685f
CATEGORIES:Általános
SUMMARY:Forradalom és szabadságharc megemlékezés
DESCRIPTION;ENCODING=QUOTED-PRINTABLE:<p>Bev. szöveg...</p><hr id="system-readmore" /><p>Csurgó Város Önkormányza
 ta, és a Csokonai Közösségi Ház tisztelettel meghívja Önt és kedves családj
 át 2015. március 15-én (vasárnap) az 1848/49-es forradalom és szabadságharc
  tiszteletére rendezendő programokra.</p><p>16:30 órától ÜNNEPÉLYES ZÁSZLÓF
 ELVONÁS ÉS KOSZORÚZÁS Helyszín: Petőfi tér, Országzászló<br />17:00 órától 
 ÜNNEPI MŰSOR Ünnepi beszédet mond: Jakó Gergely a Somogy Megyei Önkormányza
 t elnöke<br />Ünnepi műsort adnak: Eötvös József Általános Iskola diákjai<b
 r />KIÁLLÍTÁS a Magyar Sajtó Napja alkalmából<br />Petőfi Csurgón címmel A 
 kiállítást megnyitja: Simon Mihály az Oktatási Kulturális és Turisztikai Bi
 zottság elnöke<br />FOGADÁS Az ünnepi programban közreműködik: Overtones Al
 apfokú Művészeti Iskola Helyszín: Csokonai Közösségi Ház (8840 Csurgó, Széc
 henyi tér 1.)</p>
DTSTAMP:20260424T062923Z
DTSTART;TZID=Europe/Budapest:20150315T160000
DTEND;TZID=Europe/Budapest:20150315T190000
SEQUENCE:0
TRANSP:OPAQUE
END:VEVENT
END:VCALENDAR