BEGIN:VCALENDAR
VERSION:2.0
PRODID:-//jEvents 2.0 for Joomla//EN
CALSCALE:GREGORIAN
METHOD:PUBLISH
BEGIN:VTIMEZONE
TZID:Europe/Budapest
BEGIN:STANDARD
DTSTART:20191027T020000
RDATE:20200329T030000
TZOFFSETFROM:+0200
TZOFFSETTO:+0100
TZNAME:Europe/Budapest CET
END:STANDARD
BEGIN:STANDARD
DTSTART:20201025T020000
RDATE:20210328T030000
TZOFFSETFROM:+0200
TZOFFSETTO:+0100
TZNAME:Europe/Budapest CET
END:STANDARD
BEGIN:DAYLIGHT
DTSTART:20190820T094500
RDATE:20191027T020000
TZOFFSETFROM:+0100
TZOFFSETTO:+0200
TZNAME:Europe/Budapest CEST
END:DAYLIGHT
BEGIN:DAYLIGHT
DTSTART:20200329T030000
RDATE:20201025T020000
TZOFFSETFROM:+0100
TZOFFSETTO:+0200
TZNAME:Europe/Budapest CEST
END:DAYLIGHT
END:VTIMEZONE
BEGIN:VEVENT
UID:e41770567bed071c945f79150fdd9bd2
CATEGORIES:Általános
SUMMARY:Augusztus 20-i ünnepi szentmise és koszorúzás
DESCRIPTION;ENCODING=QUOTED-PRINTABLE:\n\n\n
DTSTAMP:20260421T155518Z
DTSTART;TZID=Europe/Budapest:20200820T094500
DTEND;TZID=Europe/Budapest:20200820T110000
SEQUENCE:0
TRANSP:OPAQUE
END:VEVENT
END:VCALENDAR