BEGIN:VCALENDAR
VERSION:2.0
PRODID:-//jEvents 2.0 for Joomla//EN
CALSCALE:GREGORIAN
METHOD:PUBLISH
BEGIN:VTIMEZONE
TZID:Europe/Budapest
END:VTIMEZONE
BEGIN:VEVENT
UID:4fb290852813a705b913708f4c3ffeaf
CATEGORIES:Általános
SUMMARY:I. Csurgói Torta és Pite Fesztivál
DESCRIPTION;ENCODING=QUOTED-PRINTABLE:\n\n\n
X-EXTRAINFO:További információ: \nhttps://www.facebook.com/groups/982336993592036/
DTSTAMP:20260426T014427Z
DTSTART;TZID=Europe/Budapest;VALUE=DATE:20250215
DTEND;TZID=Europe/Budapest;VALUE=DATE:20250216
SEQUENCE:0
TRANSP:OPAQUE
END:VEVENT
END:VCALENDAR