BEGIN:VCALENDAR
VERSION:2.0
PRODID:-//jEvents 2.0 for Joomla//EN
CALSCALE:GREGORIAN
METHOD:PUBLISH
BEGIN:VTIMEZONE
TZID:Europe/Budapest
END:VTIMEZONE
BEGIN:VEVENT
UID:d17870cc6fe77eb2c5f54fbece661fac
CATEGORIES:Általános
SUMMARY:Eötvös nap
LOCATION:Csurgó Eötvös József Sportiskolai Általános iskola
DESCRIPTION;ENCODING=QUOTED-PRINTABLE:\n\n\n
DTSTAMP:20260426T032644Z
DTSTART;TZID=Europe/Budapest;VALUE=DATE:20250203
DTEND;TZID=Europe/Budapest;VALUE=DATE:20250204
SEQUENCE:0
TRANSP:OPAQUE
END:VEVENT
END:VCALENDAR